BEGIN:VCALENDAR
VERSION:2.0
PRODID:-//Limfjordens Sejlsport - ECPv6.15.18//NONSGML v1.0//EN
CALSCALE:GREGORIAN
METHOD:PUBLISH
X-ORIGINAL-URL:http://limfjordens-sejlsport.dk
X-WR-CALDESC:Begivenheder for Limfjordens Sejlsport
REFRESH-INTERVAL;VALUE=DURATION:PT1H
X-Robots-Tag:noindex
X-PUBLISHED-TTL:PT1H
BEGIN:VTIMEZONE
TZID:Europe/Copenhagen
BEGIN:DAYLIGHT
TZOFFSETFROM:+0100
TZOFFSETTO:+0200
TZNAME:CEST
DTSTART:20250330T010000
END:DAYLIGHT
BEGIN:STANDARD
TZOFFSETFROM:+0200
TZOFFSETTO:+0100
TZNAME:CET
DTSTART:20251026T010000
END:STANDARD
BEGIN:DAYLIGHT
TZOFFSETFROM:+0100
TZOFFSETTO:+0200
TZNAME:CEST
DTSTART:20260329T010000
END:DAYLIGHT
BEGIN:STANDARD
TZOFFSETFROM:+0200
TZOFFSETTO:+0100
TZNAME:CET
DTSTART:20261025T010000
END:STANDARD
BEGIN:DAYLIGHT
TZOFFSETFROM:+0100
TZOFFSETTO:+0200
TZNAME:CEST
DTSTART:20270328T010000
END:DAYLIGHT
BEGIN:STANDARD
TZOFFSETFROM:+0200
TZOFFSETTO:+0100
TZNAME:CET
DTSTART:20271031T010000
END:STANDARD
END:VTIMEZONE
BEGIN:VEVENT
DTSTART;TZID=Europe/Copenhagen:20260926T100000
DTEND;TZID=Europe/Copenhagen:20260927T153000
DTSTAMP:20260421T223353
CREATED:20251211T150244Z
LAST-MODIFIED:20251211T150244Z
UID:466-1790416800-1790523000@limfjordens-sejlsport.dk
SUMMARY:Sensummer Cup
DESCRIPTION:
URL:http://limfjordens-sejlsport.dk/kalender/sensummer-cup/
LOCATION:Sunds Sejlklub\, Vestre Søvej 4\, Sunds\, 7451\, Danmark
CATEGORIES:Ungdom
ATTACH;FMTTYPE=image/jpeg:http://limfjordens-sejlsport.dk/wp-content/uploads/begivenheder/2014-05-26-Seks-tera-i-taet-duel-scaled.jpg
END:VEVENT
END:VCALENDAR